BEGIN:VCALENDAR
VERSION:2.0
PRODID:-//ChamberMaster//Event Calendar 2.0//EN
METHOD:PUBLISH
X-PUBLISHED-TTL:P3D
REFRESH-INTERVAL:P3D
CALSCALE:GREGORIAN
BEGIN:VEVENT
DTSTART;VALUE=DATE:20170404
DTEND;VALUE=DATE:20170405
TRANSP:TRANSPARENT
X-MICROSOFT-CDO-ALLDAYEVENT:TRUE
SUMMARY:GRAND OPENING: Wings of the Tropics
DESCRIPTION:Description: It's almost here! Sylvan Heights Bird Park's newest exhibit\, Wings of the Tropics\, will open on Saturday\, April 29th\, 2017.  Featuring tropical species from Africa and South America\, the walk-through aviary will give visitors an up-close encounter with colorful hummingbirds\, finches\, jays\, doves\, quail\, pygmy geese\, and much more.  Join us for the grand opening\, or visit anytime afterwards to enjoy this new avian experience.
X-ALT-DESC;FMTTYPE=text/html:<span style="font-family:times new roman\,serif\; font-size:12pt">Description: It&#39\;s almost here! Sylvan Heights Bird Park&#39\;s newest exhibit\, Wings of the Tropics\, will open on Saturday\, April 29th\, 2017.&nbsp\; Featuring tropical species from Africa and South America\, the walk-through aviary will give visitors an up-close encounter with colorful hummingbirds\, finches\, jays\, doves\, quail\, pygmy geese\, and much more.&nbsp\; Join us for the grand opening\, or visit anytime afterwards to enjoy this new avian experience.&nbsp\;</span>
LOCATION:500 Sylvan Heights Park Way Scotland Neck\, NC 27874
UID:e.840.8081
SEQUENCE:3
DTSTAMP:20260423T165306Z
URL:https://business.greenvillenc.org/events/details/grand-opening-wings-of-the-tropics-8081
END:VEVENT

END:VCALENDAR
