BEGIN:VCALENDAR
VERSION:2.0
PRODID:-//ChamberMaster//Event Calendar 2.0//EN
METHOD:PUBLISH
X-PUBLISHED-TTL:P3D
REFRESH-INTERVAL:P3D
CALSCALE:GREGORIAN
BEGIN:VEVENT
DTSTART:20180605T120000Z
DTEND:20180605T170000Z
X-MICROSOFT-CDO-ALLDAYEVENT:FALSE
SUMMARY:Golf Fore Life - Carolina Pregnancy Center
DESCRIPTION:Join us for our Golf Fore Life event at the Greenville Country Club!  All proceeds will help the Carolina Pregnancy Center help women and families with unplanned pregnancies.
X-ALT-DESC;FMTTYPE=text/html:Join us for our Golf Fore Life event at the Greenville Country Club!&nbsp\; All proceeds will help the Carolina Pregnancy Center help women and families with unplanned pregnancies.
LOCATION:Greenville Country Club 216 Country Club Dr\, Greenville\, NC 27834
UID:e.840.8736
SEQUENCE:3
DTSTAMP:20260421T075014Z
URL:https://business.greenvillenc.org/events/details/golf-fore-life-carolina-pregnancy-center-8736
END:VEVENT

END:VCALENDAR
