BEGIN:VCALENDAR
VERSION:2.0
PRODID:-//ChamberMaster//Event Calendar 2.0//EN
METHOD:PUBLISH
X-PUBLISHED-TTL:P3D
REFRESH-INTERVAL:P3D
CALSCALE:GREGORIAN
BEGIN:VEVENT
DTSTART:20190222T230000Z
DTEND:20190223T030000Z
X-MICROSOFT-CDO-ALLDAYEVENT:FALSE
SUMMARY:George Washington's Birthday Bash
DESCRIPTION:George is 287 years young and we're throwing a party! Get your tickets (limited number available) and lets party like it's 1776!\n \n\nWe are going to party right along the waterfront in Washington\, NC in a giant heated tent. We'll have some good old rock and roll music\, a cake\, full catered meal\, beverages\, fun\, games\, dancing and merriment! (Martha might need to ease up on those cocktails).\n\n\n\nLive Music: The Joe Baes Project\n\nYour ticket will also include access to a full catered buffet. The menu will be American fare\, just like George would want\, including: (Menu items subject to change)\n\n  Hamburgers\n\n  Hot dogs\n\n  BBQ\n\n  Fried Chicken\n\n  Potato Salad\n\n  Green Beans\n\n  Slaw\n\n  Tea\, water\, condiments\, etc
X-ALT-DESC;FMTTYPE=text/html:<span style="background-color:rgb(237\, 237\, 237)\; color:rgb(102\, 102\, 102)\; font-family:muli\,sans-serif\; font-size:16px">George is 287 years young and we&rsquo\;re throwing a party! Get your tickets (limited number available) and lets party like it&rsquo\;s 1776!</span>\n<div>&nbsp\;</div>\n\n<div><span style="background-color:rgb(237\, 237\, 237)\; color:rgb(102\, 102\, 102)\; font-family:muli\,sans-serif\; font-size:16px">We are going to party right along the waterfront in Washington\, NC in a giant heated tent. We&#39\;ll have some good old rock and roll music\, a cake\, full catered meal\, beverages\, fun\, games\, dancing and merriment! (Martha might need to ease up on those cocktails).<br />\n<br />\nLive Music: The Joe Baes Project</span>\n\n<p>Your ticket will also include access to a full catered buffet. The menu will be American fare\, just like George would want\, including: (Menu items subject to change)</p>\n\n<p>&ndash\; Hamburgers<br />\n&ndash\; Hot dogs<br />\n&ndash\; BBQ<br />\n&ndash\; Fried Chicken<br />\n&ndash\; Potato Salad<br />\n&ndash\; Green Beans<br />\n&ndash\; Slaw<br />\n&ndash\; Tea\, water\, condiments\, etc</p>\n<br />\n&nbsp\;</div>\n
LOCATION:Festival Park 119 Water Street Washington\, NC 27889
UID:e.840.9762
SEQUENCE:3
DTSTAMP:20260420T202511Z
URL:https://business.greenvillenc.org/events/details/george-washington-s-birthday-bash-9762
END:VEVENT

END:VCALENDAR
