BEGIN:VCALENDAR
VERSION:2.0
PRODID:-//ChamberMaster//Event Calendar 2.0//EN
METHOD:PUBLISH
X-PUBLISHED-TTL:P3D
REFRESH-INTERVAL:P3D
CALSCALE:GREGORIAN
BEGIN:VEVENT
DTSTART:20161021T203000Z
DTEND:20161022T010000Z
X-MICROSOFT-CDO-ALLDAYEVENT:FALSE
SUMMARY:Garden Bros Circus in Greenville
DESCRIPTION:Garden Bros Circus Location: Convention Center   303 Greenville Blvd\, Greenville\, NC 27834 Day/Date: Friday\, October 21\, 2016 Showtimes: 4:30 pm & 7:30 pm GARDEN BROTHERS CIRCUS celebrates 100 years entertaining families throughout North America. Last chance to see Elephants live! 'Motorcycle Madness' has motorcycle daredevils somersaulting and spinning in a big Globe of Doom\; Chinese Acrobats\, the Human Slingshot\, Racing Camels\, crazy comedy with Circus Clowns\, daring aerialists\; cirque artists. Its 1 1/2 hours of excitement and fun at GARDEN BROTHERS CIRCUS. Free children's tickets have been distributed at all elementary schools\, pre-schools\, day care centers and churches. The Free Tickets are also available at sponsoring businesses in the area. First one hundred adult tickets sold online are only $9.95 at Thank You!
X-ALT-DESC;FMTTYPE=text/html:Garden Bros Circus Location: Convention Center &ndash\; 303 Greenville Blvd\, Greenville\, NC 27834 Day/Date: Friday\, October 21\, 2016 Showtimes: 4:30 pm &amp\; 7:30 pm GARDEN BROTHERS CIRCUS celebrates 100 years entertaining families throughout North America. Last chance to see Elephants live! &lsquo\;Motorcycle Madness&rsquo\; has motorcycle daredevils somersaulting and spinning in a big Globe of Doom\; Chinese Acrobats\, the Human Slingshot\, Racing Camels\, crazy comedy with Circus Clowns\, daring aerialists\; cirque artists. Its 1 1/2 hours of excitement and fun at GARDEN BROTHERS CIRCUS. Free children&rsquo\;s tickets have been distributed at all elementary schools\, pre-schools\, day care centers and churches. The Free Tickets are also available at sponsoring businesses in the area. First one hundred adult tickets sold online are only $9.95 at Thank You!
LOCATION:Greenville Convention Center 303 Greenville Blvd SW Greenville\, NC 27834
UID:e.840.6274
SEQUENCE:3
DTSTAMP:20260424T011041Z
URL:https://business.greenvillenc.org/events/details/garden-bros-circus-in-greenville-6274
END:VEVENT

END:VCALENDAR
