BEGIN:VCALENDAR
VERSION:2.0
PRODID:-//ChamberMaster//Event Calendar 2.0//EN
METHOD:PUBLISH
X-PUBLISHED-TTL:P3D
REFRESH-INTERVAL:P3D
CALSCALE:GREGORIAN
BEGIN:VEVENT
DTSTART:20260228T230000Z
DTEND:20260301T030000Z
X-MICROSOFT-CDO-ALLDAYEVENT:FALSE
SUMMARY:G-Vegas Night: A Casino Night Fundraiser
DESCRIPTION:Join us for our Second Annual G-Vegas Night\, a Casino Night Fundraiser\, on February 28\, 2026 at ECU's Harvey Hall (located within the Murphy Center of ECU's Athletic Campus). This upscale\, exciting event will include multiple casino games\, small plate food stations\, signature cocktails\, raffle prizes\, and unforgettable memories!\n\n\n\nCasino games will include poker\, blackjack\, craps and roulette. Tables will be open from 6:30-9:30 p.m. At the end of the evening your winnings can be exchanged for raffle tickets\, giving you the chance to win a multitude of prizes. Additional raffle tickets will also be available for purchase. Drawing for raffles will start at 9:30 p.m.\, and you must be present to win. \n\n \n\nEarly Bird Ticket Sales: December 8 - January 16\n\n- $60 for non-alcohol included ticket\n\n- $75 for alcohol included ticket \n\n \n\nRegular Ticket Sales: January 16 - February 13\n\n- $75 for non-alcohol included ticket\n\n- $90 for alcohol included ticket\n\n \n\nLast day for ticket sales will be February 13. \n\n \n\nThis event is ages 21 and up. Cocktail dress preferred.
X-ALT-DESC;FMTTYPE=text/html:<p>Join us for our Second Annual G-Vegas Night\, a Casino Night Fundraiser\, on February 28\, 2026 at ECU&#39\;s Harvey Hall (located within the Murphy Center of ECU&#39\;s Athletic Campus). This upscale\, exciting event will include multiple casino games\, small plate food stations\, signature cocktails\, raffle prizes\, and unforgettable memories!</p>\n\n<p><br />\nCasino games will include poker\, blackjack\, craps and roulette. Tables will be open from 6:30-9:30 p.m. At the end of the evening your winnings can be exchanged for raffle tickets\, giving you the chance to win a multitude of prizes. Additional raffle tickets will also be available for purchase. Drawing for raffles will start at 9:30 p.m.\, and you must be present to win.&nbsp\;</p>\n\n<p>&nbsp\;</p>\n\n<p><strong>Early Bird Ticket Sales:</strong>&nbsp\;December 8 - January 16</p>\n\n<p>- $60 for non-alcohol included ticket</p>\n\n<p>- $75 for alcohol included ticket&nbsp\;</p>\n\n<p>&nbsp\;</p>\n\n<p><strong>Regular Ticket Sales:</strong>&nbsp\;January 16 - February 13</p>\n\n<p>- $75 for non-alcohol included ticket</p>\n\n<p>- $90 for alcohol included ticket</p>\n\n<p>&nbsp\;</p>\n\n<p>Last day for ticket sales will be February 13.&nbsp\;</p>\n\n<p>&nbsp\;</p>\n\n<p><strong>This event is ages 21 and up. Cocktail dress preferred.</strong></p>\n
LOCATION:Harvey Hall in the Murphy Center at ECU's Athletic Campus
UID:e.840.17752
SEQUENCE:3
DTSTAMP:20260420T082854Z
URL:https://business.greenvillenc.org/events/details/g-vegas-night-a-casino-night-fundraiser-17752
END:VEVENT

END:VCALENDAR
