BEGIN:VCALENDAR
VERSION:2.0
PRODID:-//ChamberMaster//Event Calendar 2.0//EN
METHOD:PUBLISH
X-PUBLISHED-TTL:P3D
REFRESH-INTERVAL:P3D
CALSCALE:GREGORIAN
BEGIN:VEVENT
DTSTART:20190130T233000Z
DTEND:20190131T020000Z
X-MICROSOFT-CDO-ALLDAYEVENT:FALSE
SUMMARY:G'oils Night Out!
DESCRIPTION:Essential Oils: What are they? How do you use them? Which oils are good for what? Ask any questions you may have and learn how essential oils can compliment your health routine!\n\n\n\nThis will be a relaxed yet informative night!. There will be wine and hors d'oeuvres provided for everyone attending. We hope to see you there\, we know you will have a great thyme \;)
X-ALT-DESC;FMTTYPE=text/html:<span style="color:rgb(29\, 33\, 41)\; font-family:system-ui\,-apple-system\,blinkmacsystemfont\,.sfnstext-regular\,sans-serif\; font-size:14px">Essential Oils: What are they? How do you use them? Which oils are good for what? Ask any questions you may have and learn how essential oils can compliment your health routine!</span><br />\n<br />\n<span style="color:rgb(29\, 33\, 41)\; font-family:system-ui\,-apple-system\,blinkmacsystemfont\,.sfnstext-regular\,sans-serif\; font-size:14px">This will be a relaxed yet informative night!. There will be wine and hors d&#39\;oeuvres provided for everyone attending. We hope to see you there\, we know you will have a great thyme \;) </span>
LOCATION:Advantage Therapy Solutions 212 E. Arlington Blvd. Greenville\, NC 27858
UID:e.840.9757
SEQUENCE:3
DTSTAMP:20260420T213536Z
URL:https://business.greenvillenc.org/events/details/g-oils-night-out-9757
END:VEVENT

END:VCALENDAR
