BEGIN:VCALENDAR
VERSION:2.0
PRODID:-//ChamberMaster//Event Calendar 2.0//EN
METHOD:PUBLISH
X-PUBLISHED-TTL:P3D
REFRESH-INTERVAL:P3D
CALSCALE:GREGORIAN
BEGIN:VEVENT
DTSTART:20170212T010000Z
DTEND:20170212T040000Z
X-MICROSOFT-CDO-ALLDAYEVENT:FALSE
SUMMARY:Full Moon Paddle
DESCRIPTION:Join us for our monthly full moon paddles. The evening starts with a night hike through the grounds to the pond where the kayaks are set. Paddle about at your leisure as well as a view the full moon through a telescope and make S'mores at a campfire.
X-ALT-DESC;FMTTYPE=text/html:Join us for our monthly full moon paddles. The evening starts with a night hike through the grounds to the pond where the kayaks are set. Paddle about at your leisure as well as a view the full moon through a telescope and make S&rsquo\;mores at a campfire.
LOCATION:A Time for Science 949 Contentnea Lane Grifton\, NC 28530
UID:e.840.7850
SEQUENCE:3
DTSTAMP:20260423T193033Z
URL:https://business.greenvillenc.org/events/details/full-moon-paddle-7850
END:VEVENT

END:VCALENDAR
