BEGIN:VCALENDAR
VERSION:2.0
PRODID:-//ChamberMaster//Event Calendar 2.0//EN
METHOD:PUBLISH
X-PUBLISHED-TTL:P3D
REFRESH-INTERVAL:P3D
CALSCALE:GREGORIAN
BEGIN:VEVENT
DTSTART:20200318T203000Z
DTEND:20200318T213000Z
X-MICROSOFT-CDO-ALLDAYEVENT:FALSE
SUMMARY:Free Weight Loss Seminar
DESCRIPTION:Please join us for an informational session March 18\, 2020 at 4:30 pm\n\n\n\nBased on Science and recommendations from experts on the field\, Dr. Nachida Hamidi-Sitouah will share with you the secrets of successful weight loss and strategies with good evidence for weight maintenance.\n\n\n\nThere will be a FREE body composition analysis that is normally worth over $100 and FREE protein sampling in person.\n\n\n\nYou can join in person at 202 E Arlington Blvd Suite D\, Greenville\, NC 27858 or online\n\n\n\nPlease RSVP by phone or email so we can know your preference and sign you up!\n\n\n\n\n\nLed by Dr. S\, the session will cover:\n\n\n\nWeight loss treatments and expected outcomes\n\nMedical\, Surgical\, Lifestyle modifications\n\nThe challenges of weight control and the impact of hormones\, unhealthy thoughts\, sleep\, and stress on your weight.  \n\nThe four pillar treatment approach and the recommended guidelines for a comprehensive medical weight loss program. \n\nThe role of weight loss medications\n\nA preview of our lifestyle coaching sessions and our nutrition program. \n\nYour burning questions about our program\n\n \n\n\n\nQuestions? Call us at 252-227-0080 or email at contact@drswaw.com\n\n\n\nWe look forward to seeing you!
X-ALT-DESC;FMTTYPE=text/html:Please join us for an informational session March 18\, 2020 at 4:30 pm<br />\n<br />\nBased on Science and recommendations from experts on the field\, Dr. Nachida Hamidi-Sitouah will share with you the secrets of successful weight loss and strategies with good evidence for weight maintenance.<br />\n<br />\nThere will be a FREE body composition analysis that is normally worth over $100 and FREE protein sampling in person.<br />\n<br />\nYou can join in person at 202 E Arlington Blvd Suite D\, Greenville\, NC 27858 or online<br />\n<br />\nPlease RSVP by phone or email so we can know your preference and sign you up!<br />\n<br />\n<br />\nLed by Dr. S\, the session will cover:<br />\n<br />\nWeight loss treatments and expected outcomes<br />\nMedical\, Surgical\, Lifestyle modifications<br />\nThe challenges of weight control and the impact of hormones\, unhealthy thoughts\, sleep\, and stress on your weight.&nbsp\;&nbsp\;<br />\nThe four pillar treatment approach and the recommended guidelines for a comprehensive medical weight loss program.&nbsp\;<br />\nThe role of weight loss medications<br />\nA preview of our lifestyle coaching sessions and our nutrition program.&nbsp\;<br />\nYour burning questions about our program<br />\n&nbsp\;<br />\n<br />\nQuestions? Call us at 252-227-0080 or email at contact@drswaw.com<br />\n<br />\nWe look forward to seeing you!
LOCATION:202 E Arlington Blvd Suite D Greenville\, NC 27858
UID:e.840.11398
SEQUENCE:3
DTSTAMP:20260420T030936Z
URL:https://business.greenvillenc.org/events/details/free-weight-loss-seminar-11398
END:VEVENT

END:VCALENDAR
