BEGIN:VCALENDAR
VERSION:2.0
PRODID:-//ChamberMaster//Event Calendar 2.0//EN
METHOD:PUBLISH
X-PUBLISHED-TTL:P3D
REFRESH-INTERVAL:P3D
CALSCALE:GREGORIAN
BEGIN:VEVENT
DTSTART:20160614T153000Z
DTEND:20160614T173000Z
X-MICROSOFT-CDO-ALLDAYEVENT:FALSE
SUMMARY:Free Small Business Center Round Table - Creating a Blog in 20 Minutes
DESCRIPTION:Bring your lunch and join other entrepreneurs and small business owners for our free monthly round table discussion! This month's topic will be Creating a Blog in 20 Minutes. Creating a blog can be an easy\, inexpensive way to promote your business. If you get a headache when you think about technology or are worried about writing\, we have a solution! Presenter Mike Collins will show you how to create\, write\, and post a blog quickly and easily. He will cover the basics of creating a blog that attracts customers\, builds a community that supports your business\, and gives you a way to build your brand\, image\, and impact. For more information call 252-493-7528 or register at: https://www.ncsbc.net/workshop.aspx?ekey=380360058.
X-ALT-DESC;FMTTYPE=text/html:Bring your lunch and join other entrepreneurs and small business owners for our free monthly round table discussion! This month&#39\;s topic will be Creating a Blog in 20 Minutes. Creating a blog can be an easy\, inexpensive way to promote your business. If you get a headache when you think about technology or are worried about writing\, we have a solution! Presenter Mike Collins will show you how to create\, write\, and post a blog quickly and easily. He will cover the basics of creating a blog that attracts customers\, builds a community that supports your business\, and gives you a way to build your brand\, image\, and impact. For more information call 252-493-7528 or register at: <a href="https://www.ncsbc.net/workshop.aspx?ekey=380360058.">https://www.ncsbc.net/workshop.aspx?ekey=380360058</a>.
LOCATION:Greenville Center 3107 S. Memorial Drive. Greenville\, NC 27858
UID:e.840.2688
SEQUENCE:3
DTSTAMP:20260424T071236Z
URL:https://business.greenvillenc.org/events/details/free-small-business-center-round-table-creating-a-blog-in-20-minutes-06-14-2016-2688
END:VEVENT

END:VCALENDAR
