BEGIN:VCALENDAR
VERSION:2.0
PRODID:-//ChamberMaster//Event Calendar 2.0//EN
METHOD:PUBLISH
X-PUBLISHED-TTL:P3D
REFRESH-INTERVAL:P3D
CALSCALE:GREGORIAN
BEGIN:VEVENT
DTSTART:20160921T153000Z
DTEND:20160921T173000Z
X-MICROSOFT-CDO-ALLDAYEVENT:FALSE
SUMMARY:Free Round Table - Market Your Business Using Pinterest
DESCRIPTION:Bring your LUNCH and join our FREE MONTHLY round table discussions for ENTREPRENEURS and SMALL BUSINESS OWNERS!\n\n\n\nThis month's round table will be focused on marketing your small business with Pinterest. If you are looking for a way to showcase your products and or services you really need to take a look at using Pinterest. Join us for our monthly Round Table as we learn how to create client-specific boards as well as how to add a "Pin it" on your website. We will also learn how to pin directly from your website\, blog or online shop\; how to include a link to your site and how to create "calls to action". Using Pinterest for your business can be very helpful and profitable so make plans to bring your lunch and learn how you can benefit from this marketing tool.\n\nSpeaker(s): Sarah Gaylor\n\n\n\nRegister online: https://www.ncsbc.net/workshop.aspx?ekey=380360102
X-ALT-DESC;FMTTYPE=text/html:<p style="text-align: justify\;">Bring your LUNCH and join our FREE MONTHLY round table discussions for ENTREPRENEURS and SMALL BUSINESS OWNERS!<br />\n<br />\nThis month&#39\;s round table will be focused on marketing your small business with Pinterest. If you are looking for a way to showcase your products and or services you really need to take a look at using Pinterest. Join us for our monthly Round Table as we learn how to create client-specific boards as well as how to add a &quot\;Pin it&quot\; on your website. We will also learn how to pin directly from your website\, blog or online shop\; how to include a link to your site and how to create &quot\;calls to action&quot\;. Using Pinterest for your business can be very helpful and profitable so make plans to bring your lunch and learn how you can benefit from this marketing tool.</p>\n\n<p style="text-align: justify\;">Speaker(s): Sarah Gaylor<br />\n<br />\nRegister online:&nbsp\;https://www.ncsbc.net/workshop.aspx?ekey=380360102</p>\n
LOCATION:PCC Greenville Center - 3107 S. Memorial Drive
UID:e.840.5845
SEQUENCE:3
DTSTAMP:20260424T024933Z
URL:https://business.greenvillenc.org/events/details/free-round-table-market-your-business-using-pinterest-5845
END:VEVENT

END:VCALENDAR
