BEGIN:VCALENDAR
VERSION:2.0
PRODID:-//ChamberMaster//Event Calendar 2.0//EN
METHOD:PUBLISH
X-PUBLISHED-TTL:P3D
REFRESH-INTERVAL:P3D
CALSCALE:GREGORIAN
BEGIN:VEVENT
DTSTART:20180725T153000Z
DTEND:20180725T170000Z
X-MICROSOFT-CDO-ALLDAYEVENT:FALSE
SUMMARY:Free Lunch-N-Learn: eNewsletters: the good\, the bad and the ugly
DESCRIPTION:Did you know using the word "newsletter" in the subject line can decrease your email open rate by 18%? However\, many businesses and organizations refer to their regular email campaigns as eNewletters or even worse - eBlasts! \n\n\n\nInboxes are exploding at the seams\, so how can you get your email campaigns opened\, and more importantly\, read? We will provide your business with the tools and techniques to improve your open rates\, increase your click through rates\, and decrease your bounces and unsubscribes.\n\n\n\nPack a lunch and join us for this free event! For more information call 252.493.7528. You can register online at https://www.ncsbc.net/workshop.aspx?ekey=380380071
X-ALT-DESC;FMTTYPE=text/html:<div>\n<div><span style="font-family:inherit">Did you know using the word &quot\;newsletter&quot\; in the subject line can decrease your email open rate by 18%? However\, many businesses and organizations refer to their regular email campaigns as eNewletters or even worse - eBlasts!&nbsp\;<br />\n<br />\nInboxes are exploding at the seams\, so how can you get your email campaigns opened\, and more importantly\, read? We will provide your business with the tools and techniques to improve your open rates\, increase your click through rates\, and decrease your bounces and unsubscribes.<br />\n<br />\nPack a lunch and join us for this free event! For more information call 252.493.7528. You can register online at&nbsp\;<a href="https://l.facebook.com/l.php?u=https%3A%2F%2Fwww.ncsbc.net%2Fworkshop.aspx%3Fekey%3D380380071&amp\;h=AT1hZC0PGBRNyPnQ72CNJQy2zA4HDdIemlgjW2ZNcmDXYM9ckK7unUkFd0AYYEkKBnupvKrfnJBStkWz-KGDsCrKTxyKycYtaZnacGxcMJwsMkei1KXaYhMtfjFRRmSmlDzr9A&amp\;s=1" style="color: rgb(54\, 88\, 153)\; cursor: pointer\; text-decoration-line: none\; font-family: inherit\;" target="_blank">https://www.ncsbc.net/workshop.aspx?ekey=380380071</a></span></div>\n\n<div>&nbsp\;</div>\n</div>\n
LOCATION:Greenville Center 3107 S. Memorial Drive
UID:e.840.8899
SEQUENCE:3
DTSTAMP:20260421T062216Z
URL:https://business.greenvillenc.org/events/details/free-lunch-n-learn-enewsletters-the-good-the-bad-and-the-ugly-8899
END:VEVENT

END:VCALENDAR
