BEGIN:VCALENDAR
VERSION:2.0
PRODID:-//ChamberMaster//Event Calendar 2.0//EN
METHOD:PUBLISH
X-PUBLISHED-TTL:P3D
REFRESH-INTERVAL:P3D
CALSCALE:GREGORIAN
BEGIN:VEVENT
DTSTART:20171115T163000Z
DTEND:20171115T183000Z
X-MICROSOFT-CDO-ALLDAYEVENT:FALSE
SUMMARY:Free Lunch-N-Learn: 10 Steps for a Successful Business
DESCRIPTION:Bring your lunch and join other entrepreneurs and small business owners to learn 10 Steps for a Successful Business. Guest speaker will be H.B. Moore\, VP & General Manager of Piedmont Service Group.\n\n\n\nFree event. Pre-registration required. \n\nFor more information\, call 252.493.7528 or register at:https://www.ncsbc.net/workshop.aspx?ekey=380370107
X-ALT-DESC;FMTTYPE=text/html:<span style="color:rgb(75\, 79\, 86)\; font-family:sf optimized\,system-ui\,-apple-system\,system-ui\,.sfnstext-regular\,sans-serif\; font-size:14px">Bring your lunch and join other entrepreneurs and small business owners to learn 10 Steps for a Successful Business. Guest speaker will be H.B. Moore\, VP &amp\; General Manager of Piedmont Service Group.</span><br />\n<br />\n<span style="color:rgb(75\, 79\, 86)\; font-family:sf optimized\,system-ui\,-apple-system\,system-ui\,.sfnstext-regular\,sans-serif\; font-size:14px">Free event. Pre-registration required.&nbsp\;</span><br />\n<span style="color:rgb(75\, 79\, 86)\; font-family:sf optimized\,system-ui\,-apple-system\,system-ui\,.sfnstext-regular\,sans-serif\; font-size:14px">For more information\, call 252.493.7528 or register at:</span><a href="https://l.facebook.com/l.php?u=https%3A%2F%2Fwww.ncsbc.net%2Fworkshop.aspx%3Fekey%3D380370107&amp\;h=ATORpI7nnpJcN9TntrhNihmCG0aqs8n58pXPuazzHKqGMHm87B3EMOfFgyKHgY9nLVb6U7HSZ3EP-k7AkXOa9dalaxMeVAbb0xVncnsSg15b32iLQ6w6yd8_RWUUABPThNOW3uDxPDyS8DrLfz8bhouhTRGBDB2fGFPb-9C2OQsBBy5omRM" rel="nofollow noopener" style="color: rgb(54\, 88\, 153)\; cursor: pointer\; text-decoration-line: none\; font-family: &quot\;SF Optimized&quot\;\, system-ui\, -apple-system\, system-ui\, &quot\;.SFNSText-Regular&quot\;\, sans-serif\; font-size: 14px\; letter-spacing: -0.12px\;" target="_blank"><span style="font-family:inherit">https://www.ncsbc.net/</span><span style="font-family:inherit">workshop.aspx?ekey=38037010</span>7</a>
LOCATION:PCC Greenville Center 3107 S. Memorial Dr.
UID:e.840.8680
SEQUENCE:3
DTSTAMP:20260423T062836Z
URL:https://business.greenvillenc.org/events/details/free-lunch-n-learn-10-steps-for-a-successful-business-8680
END:VEVENT

END:VCALENDAR
