BEGIN:VCALENDAR
VERSION:2.0
PRODID:-//ChamberMaster//Event Calendar 2.0//EN
METHOD:PUBLISH
X-PUBLISHED-TTL:P3D
REFRESH-INTERVAL:P3D
CALSCALE:GREGORIAN
BEGIN:VEVENT
DTSTART:20160616T223000Z
DTEND:20160616T233000Z
X-MICROSOFT-CDO-ALLDAYEVENT:FALSE
SUMMARY:FREE Boot Camp Class
DESCRIPTION:Our first FREE boot camp class is Thursday\, June16th at 6:30pm! You can sign up at: uptownbootcamp.wodify.com. Here's the down low:\n\nFREE classes:\n\n-June 16th at 6:30pm \n\n-June 18th at 10am\n\n\nAnyone that joins by June 18th\, will get a discounted rate of $99 per month. This discounted rate will be applied for June (prorated) and July. Standard boot camp rate is $120 per month.\n\nOur weekly class schedule to start with will be:\n\n-M\,W\,TH: 6:30pm\n\n-Sat: 10:00am\n\nOur mission is spark movement in and around our city's center with a program that is fun\, effective\, and functional. If you want to BURN FAT\, build STRENGTH\, and FEEL GOOD this summer\, it's not too late!\n\nWe are looking forward to helping everyone reach their health and fitness goals!
X-ALT-DESC;FMTTYPE=text/html:<p>Our first FREE boot camp class is Thursday\, June16th at 6:30pm! You can sign up at:&nbsp\;<a href="http://uptownbootcamp.wodify.com/" rel="nofollow" style="color: rgb(54\, 88\, 153)\; cursor: pointer\; text-decoration: none\; font-family: inherit\;" target="_blank">uptownbootcamp.wodify.com.</a>&nbsp\;Here&#39\;s the down low:</p>\n\n<p>FREE classes:<br />\n-June 16th at 6:30pm&nbsp\;<br />\n-June 18th at 10am</p>\n\n<div>\n<p>Anyone that joins by June 18th\, will get a discounted rate of $99 per month. This discounted rate will be applied for June (prorated) and July. Standard boot camp rate is $120 per month.</p>\n\n<p>Our weekly class schedule to start with will be:</p>\n\n<p>-M\,W\,TH: 6:30pm<br />\n-Sat: 10:00am</p>\n\n<p>Our mission is spark movement in and around our city&#39\;s center with a program that is fun\, effective\, and functional. If you want to BURN FAT\, build STRENGTH\, and FEEL GOOD this summer\, it&#39\;s not too late!</p>\n\n<p>We are looking forward to helping everyone reach their health and fitness goals!</p>\n</div>\n
LOCATION:We will meet at our uptown location at 818 Clark St. Occasionally we will meet at the Town Commons\, The Green Way\, and other areas in the uptown district.
UID:e.840.4914
SEQUENCE:3
DTSTAMP:20260424T065415Z
URL:https://business.greenvillenc.org/events/details/free-boot-camp-class-06-16-2016-4914
END:VEVENT

END:VCALENDAR
