BEGIN:VCALENDAR
VERSION:2.0
PRODID:-//ChamberMaster//Event Calendar 2.0//EN
METHOD:PUBLISH
X-PUBLISHED-TTL:P3D
REFRESH-INTERVAL:P3D
CALSCALE:GREGORIAN
BEGIN:VEVENT
DTSTART:20171002T160000Z
DTEND:20171002T170000Z
X-MICROSOFT-CDO-ALLDAYEVENT:FALSE
SUMMARY:Fourth Annual Economics Forum and Business Symposium
DESCRIPTION:Lunchtime Business Symposium on the State of the Economy\n\nOctober 2\, 2017 @ 12 noon-1:00pm Registration begins at 11:15\n\nBuffet opens at 11:45\n\nGreenville Hilton\n\n207 Greenville Blvd. SW\, Greenville\, NC\n\n\n\nJames Hamilton   Featured Speaker\n\nMacroeconomist and Time Series Econometrician\, University of California\, San Diego\n\n"The Federal Reserve and Quantitative Easing: What Did It Accomplish?"\n\n\n\nJames Butkiewicz\n\nChair\, University of Delaware\, Department of Economics\n\n"The Second Triffin Paradox and US Reserve Currency Status"\n\n\n\nRandall Parker\n\nMacroeconomist\, East Carolina University\n\n"Shut Up and Take your Castor Oil: 2% Growth is Good for You"\n\nOpen to the Public with special emphasis on inviting the Financial/Business Community of Eastern North Carolina. Please join us for a frank and open discussion of the current and future course of our economy.\n\n\n\n$35.00 for lunch and open forum. First confirmations get front tables.\n\n\n\nContact: Randall Parker\, Department of Economics\, ECU at parkerr@ecu.edu\n\n\n\nMake checks payable to: The ECU Foundation\, mail to Randall Parker\, ECU Dept. of Economics\, Brewster A-427\, Greenville\, NC 27858.\n\n\n\nThis is a Fund-Raising Event for Student Scholarships in the Department of Economics\, East Carolina University. All funds raised are strictly for that purpose.\n\n\n\nPlease click here to register and make your payment online.\n\n\n\nThis event has been generously funded by a grant from the Charles Koch Foundation
X-ALT-DESC;FMTTYPE=text/html:<div style="text-align:center"><strong><span style="font-size:14px"><span style="font-family:arial\,helvetica\,sans-serif">Lunchtime Business Symposium on the State of the Economy<br />\nOctober 2\, 2017 @ 12 noon-1:00pm Registration begins at 11:15<br />\nBuffet opens at 11:45<br />\nGreenville Hilton<br />\n207 Greenville Blvd. SW\, Greenville\, NC</span></span></strong></div>\n\n<div style="text-align:center"><br />\n<span style="font-size:14px"><span style="font-family:arial\,helvetica\,sans-serif"><strong>James Hamilton &ndash\; Featured Speaker</strong><br />\nMacroeconomist and Time Series Econometrician\, University of California\, San Diego<br />\n&ldquo\;The Federal Reserve and Quantitative Easing: What Did It Accomplish?&quot\;<br />\n<br />\n<strong>James Butkiewicz</strong><br />\nChair\, University of Delaware\, Department of Economics<br />\n&ldquo\;The Second Triffin Paradox and US Reserve Currency Status&rdquo\;<br />\n<br />\n<strong>Randall Parker</strong><br />\nMacroeconomist\, East Carolina University<br />\n&ldquo\;Shut Up and Take your Castor Oil: 2% Growth is Good for You&rdquo\;</span></span></div>\n\n<div style="text-align:center"><span style="font-size:14px"><span style="font-family:arial\,helvetica\,sans-serif">Open to the Public with special emphasis on inviting the Financial/Business Community of Eastern North Carolina. Please join us for a frank and open discussion of the current and future course of our economy.<br />\n<br />\n$35.00 for lunch and open forum. First confirmations get front tables.<br />\n<br />\nContact: Randall Parker\, Department of Economics\, ECU at parkerr@ecu.edu<br />\n<br />\nMake checks payable to: The ECU Foundation\, mail to Randall Parker\, ECU Dept. of Economics\, Brewster A-427\, Greenville\, NC 27858.<br />\n<br />\nThis is a Fund-Raising Event for Student Scholarships in the Department of Economics\, East Carolina University. All funds raised are strictly for that purpose.<br />\n<br />\nPlease <a href="https://epay-banner.ecu.edu/C20694_ustores/web/store_main.jsp?STOREID=91&amp\;SINGLESTORE=true">click here</a> to register and make your payment online.<br />\n<br />\nThis event has been generously funded by a grant from the Charles Koch Foundation</span></span></div>\n
LOCATION:Greenville Hilton 207 Greenville Boulevard SW Greenville\, NC 27834
UID:e.840.8657
SEQUENCE:3
DTSTAMP:20260423T092011Z
URL:https://business.greenvillenc.org/events/details/fourth-annual-economics-forum-and-business-symposium-8657
END:VEVENT

END:VCALENDAR
