BEGIN:VCALENDAR
VERSION:2.0
PRODID:-//ChamberMaster//Event Calendar 2.0//EN
METHOD:PUBLISH
X-PUBLISHED-TTL:P3D
REFRESH-INTERVAL:P3D
CALSCALE:GREGORIAN
BEGIN:VEVENT
DTSTART:20161012T140000Z
DTEND:20161012T190000Z
X-MICROSOFT-CDO-ALLDAYEVENT:FALSE
SUMMARY:Foundation Fair 2016
DESCRIPTION:The North Carolina Network of Grantmakers (NCNG) hosts the Foundation Fair each year to provide nonprofits in all areas of the state an opportunity to interact with and learn about foundations in North Carolina. Akin to a "college fair\," the Foundation Fair is intended to help nonprofits find and connect with foundations that have missions similar to those of their own organizations. The 2016 NCNG Foundation Fair will be held on Wednesday\, October 12\, at the Heart Institute on the ECU campus in Greenville\, N.C. There will be two sessions for nonprofit representatives to visit foundation booths. The morning session will run from 10 am to 12 pm and the afternoon session will run from 1 pm to 3 pm. For more information and a list of participating foundations\, click here . To participate in the Foundation Fair\, you must register through the North Carolina Network of Grantmakers for either the morning or the afternoon session. Each attendee may attend only one session. To register\, click here . We look forward to seeing you at the Foundation Fair.
X-ALT-DESC;FMTTYPE=text/html:The North Carolina Network of Grantmakers (NCNG) hosts the Foundation Fair each year to provide nonprofits in all areas of the state an opportunity to interact with and learn about foundations in North Carolina. Akin to a &ldquo\;college fair\,&rdquo\; the Foundation Fair is intended to help nonprofits find and connect with foundations that have missions similar to those of their own organizations. The 2016 NCNG Foundation Fair will be held on Wednesday\, October 12\, at the Heart Institute on the ECU campus in Greenville\, N.C. There will be two sessions for nonprofit representatives to visit foundation booths. The morning session will run from 10 am to 12 pm and the afternoon session will run from 1 pm to 3 pm. For more information and a list of participating foundations\, <a href="http://www.ncgrantmakers.org/?page=foundationfair2016 Registration">click here</a>&nbsp\;. To participate in the Foundation Fair\, you must register through the North Carolina Network of Grantmakers for either the morning or the afternoon session. Each attendee may attend only one session. To register\, <a href="https://www.surveymonkey.com/r/foundationfair2016">click here</a> .&nbsp\;We look forward to seeing you at the Foundation Fair.
LOCATION:115 Heart Drive\, Greenville\, NC
UID:e.840.5836
SEQUENCE:3
DTSTAMP:20260424T022903Z
URL:https://business.greenvillenc.org/events/details/foundation-fair-2016-10-12-2016-5836
END:VEVENT

END:VCALENDAR
