BEGIN:VCALENDAR
VERSION:2.0
PRODID:-//ChamberMaster//Event Calendar 2.0//EN
METHOD:PUBLISH
X-PUBLISHED-TTL:P3D
REFRESH-INTERVAL:P3D
CALSCALE:GREGORIAN
BEGIN:VEVENT
DTSTART:20201031T160000Z
DTEND:20201031T180000Z
X-MICROSOFT-CDO-ALLDAYEVENT:FALSE
SUMMARY:Food Truck Rodeo
DESCRIPTION:Join us for some fun on Saturday\, October 31st from 12-2 for our first Food Truck Rodeo.  We will have several food trucks\, vendors\, candy\, hot apple cider\, and SO MUCH MORE!
X-ALT-DESC;FMTTYPE=text/html:<span style="background-color:rgb(255\, 255\, 255)\; color:rgb(34\, 34\, 34)\; font-family:arial\,helvetica\,sans-serif\; font-size:small">Join us for some fun on Saturday\, October 31st from 12-2 for our first Food Truck Rodeo.&nbsp\; We will have several food trucks\, vendors\, candy\, hot apple cider\, and SO MUCH MORE!&nbsp\;</span>
LOCATION:200-A Eastbrook Drive Greenville\, NC 27858
UID:e.840.11451
SEQUENCE:3
DTSTAMP:20260419T162409Z
URL:https://business.greenvillenc.org/events/details/food-truck-rodeo-11451
END:VEVENT

END:VCALENDAR
