BEGIN:VCALENDAR
VERSION:2.0
PRODID:-//ChamberMaster//Event Calendar 2.0//EN
METHOD:PUBLISH
X-PUBLISHED-TTL:P3D
REFRESH-INTERVAL:P3D
CALSCALE:GREGORIAN
BEGIN:VEVENT
DTSTART:20190919T213000Z
DTEND:20190919T230000Z
X-MICROSOFT-CDO-ALLDAYEVENT:FALSE
SUMMARY:Food Bank of Central & Eastern North Carolina Greenville Branch 20th Anniversary Open House Reception
DESCRIPTION:Food Bank of Central & Eastern North Carolina\n\nGreenville Branch 20th Anniversary Open House Reception\n\n \n\nThursday\, September 19\, 2019   5:30 pm   7:00 pm \n\nGreenville Branch\, 1712 Union Street\, Greenville\, NC 27834 \n\n \n\nThe Food Bank of Central & Eastern North Carolina would like to honor the community\, donors\, volunteers\, and partner agencies who have provided food\, volunteer hours\, and monetary support making it possible to serve our neighbors in the region experiencing food-insecurity.  September is also Hunger Action Month and we'll be sharing some simple ways to spread the word about the continued work of the Food Bank. Please join us for beverages and light fare. \n\nAttire - business casual \n\n \n\nRSVP By September 9\, 2019 to gyoung@FoodBankCENC.org \n\nPlease reference you name\, organization you represent & number of persons attending
X-ALT-DESC;FMTTYPE=text/html:<div style="text-align: center\;"><em><span style="font-size:14.0pt">Food Bank of Central &amp\; Eastern North Carolina</span></em><br />\n<em><span style="font-size:14.0pt">Greenville Branch 20<sup>th</sup> Anniversary Open House Reception</span></em><br />\n&nbsp\;<br />\n<em><span style="font-size:14.0pt">Thursday\, September 19\, 2019 &ndash\; 5:30 pm &ndash\; 7:00 pm </span></em><br />\n<em><span style="font-size:14.0pt">Greenville Branch\, 1712 Union Street\, Greenville\, NC 27834 </span></em><br />\n&nbsp\;<br />\n<em><span style="font-size:14.0pt">The Food Bank of Central &amp\; Eastern North Carolina would like to honor the community\, donors\, volunteers\, and partner agencies who have provided food\, volunteer hours\, and monetary support making it possible to serve our neighbors in the region experiencing food-insecurity.&nbsp\; September is also Hunger Action Month and we&rsquo\;ll be sharing some simple ways to spread the word about the continued work of the Food Bank. Please join us for beverages and light fare. </span></em><br />\n<em><span style="font-size:14.0pt">Attire - business casual </span></em><br />\n&nbsp\;<br />\n<em><span style="font-size:14.0pt">RSVP By September 9\, 2019 to <a href="mailto:gyoung@FoodBankCENC.org">gyoung@FoodBankCENC.org</a> </span></em><br />\n<span style="font-family:calibri\,sans-serif"><span style="font-size:14.0pt">Please reference you name\, organization you represent &amp\; number of persons attending</span></span></div>\n
LOCATION:Greenville Branch\, 1712 Union Street\, Greenville\, NC 27834
UID:e.840.10183
SEQUENCE:3
DTSTAMP:20260420T105914Z
URL:https://business.greenvillenc.org/events/details/food-bank-of-central-eastern-north-carolina-greenville-branch-20th-anniversary-open-house-reception-10183
END:VEVENT

END:VCALENDAR
