BEGIN:VCALENDAR
VERSION:2.0
PRODID:-//ChamberMaster//Event Calendar 2.0//EN
METHOD:PUBLISH
X-PUBLISHED-TTL:P3D
REFRESH-INTERVAL:P3D
CALSCALE:GREGORIAN
BEGIN:VEVENT
DTSTART:20161005T130000Z
DTEND:20161005T170000Z
X-MICROSOFT-CDO-ALLDAYEVENT:FALSE
SUMMARY:Flu Clinic
DESCRIPTION:James D. Bernstein Community Health Center of GCHC is partnering with Walgreens to providing flu shots for community members
X-ALT-DESC;FMTTYPE=text/html:<span style="font-family:arial\,sans-serif"><span style="font-size:10pt">James D. Bernstein Community Health Center of GCHC is partnering with Walgreens to providing flu shots for community members</span></span>
LOCATION:James D. Bernstein Community Health Center 261 Belvoir Highway Greenville\, N.C. 27834 In the conference room on the south side of the building.
UID:e.840.5867
SEQUENCE:3
DTSTAMP:20260424T010323Z
URL:https://business.greenvillenc.org/events/details/flu-clinic-10-05-2016-5867
END:VEVENT

END:VCALENDAR
