BEGIN:VCALENDAR
VERSION:2.0
PRODID:-//ChamberMaster//Event Calendar 2.0//EN
METHOD:PUBLISH
X-PUBLISHED-TTL:P3D
REFRESH-INTERVAL:P3D
CALSCALE:GREGORIAN
BEGIN:VEVENT
DTSTART:20160928T170000Z
DTEND:20160928T210000Z
X-MICROSOFT-CDO-ALLDAYEVENT:FALSE
SUMMARY:Flu Clinic
DESCRIPTION:James D. Bernstein Community Health Center of GCHC is partnering with Walgreens to provide flu shots for community members.
X-ALT-DESC;FMTTYPE=text/html:<span style="font-family:arial\,sans-serif"><span style="font-size:10pt">James D. Bernstein Community Health Center of GCHC is partnering with Walgreens to provide flu shots for community members.</span></span>
LOCATION:James D. Bernstein Community Health Center 261 Belvoir Highway Greenville\, N.C. 27834 In the conference room on the south side of the building.
UID:e.840.5866
SEQUENCE:3
DTSTAMP:20260424T035315Z
URL:https://business.greenvillenc.org/events/details/flu-clinic-09-28-2016-5866
END:VEVENT

END:VCALENDAR
