BEGIN:VCALENDAR
VERSION:2.0
PRODID:-//ChamberMaster//Event Calendar 2.0//EN
METHOD:PUBLISH
X-PUBLISHED-TTL:P3D
REFRESH-INTERVAL:P3D
CALSCALE:GREGORIAN
BEGIN:VEVENT
DTSTART:20180224T003000Z
DTEND:20180224T013000Z
X-MICROSOFT-CDO-ALLDAYEVENT:FALSE
SUMMARY:Fisk on Fourth Concert Series
DESCRIPTION:The 2017-2018 Fisk on Fourth Concert Series continues with Two Organs-Two Organists!  Organist John Cummins and Michael Messina present a program of duos and duets for two organists and two organs.  The centerpiece of the program is the "Alexander Variations" by Calvin Hampton.  This 30-minute work was commissioned for the organs at Grace Cathedral in San Francisco and was discovered among pieces Hampton was working on just prior to his death in 1984.  A "portative" organ will join The Perkins and Wells Memorial Organ on stage for this program.
X-ALT-DESC;FMTTYPE=text/html:<span style="font-family:century schoolbook\,serif"><span style="font-size:12.0pt">The 2017-2018 Fisk on Fourth Concert Series continues with <strong>Two Organs-Two Organists! </strong>&nbsp\;Organist John Cummins and Michael Messina present a program of duos and duets for two organists and two organs.&nbsp\; The centerpiece of the program is the &ldquo\;Alexander Variations&rdquo\; by Calvin Hampton.&nbsp\; This 30-minute work was commissioned for the organs at Grace Cathedral in San Francisco and was discovered among pieces Hampton was working on just prior to his death in 1984.&nbsp\; A &ldquo\;portative&rdquo\; organ will join The Perkins and Wells Memorial Organ on stage for this program.</span></span>
LOCATION:Join us Friday\, February 23\, 2018 at 7:30pm at St. Paul's Episcopal Church\, 401 East Fourth Street\, Greenville\, North Carolina for this special event. All concerts feature The Perkins and Wells Memorial Organ\, C. B. Fisk\, Opus 126.
UID:e.840.8694
SEQUENCE:3
DTSTAMP:20260423T015405Z
URL:https://business.greenvillenc.org/events/details/fisk-on-fourth-concert-series-8694
END:VEVENT

END:VCALENDAR
