BEGIN:VCALENDAR
VERSION:2.0
PRODID:-//ChamberMaster//Event Calendar 2.0//EN
METHOD:PUBLISH
X-PUBLISHED-TTL:P3D
REFRESH-INTERVAL:P3D
CALSCALE:GREGORIAN
BEGIN:VEVENT
DTSTART:20180411T233000Z
DTEND:20180412T003000Z
X-MICROSOFT-CDO-ALLDAYEVENT:FALSE
SUMMARY:Fisk on Fourth Concert Series
DESCRIPTION:The 2017-2018 Fisk on Fourth Concert Series concludes with The Canterbury Cathedral Choir of Men and Boys (UK)\, DAVID FLOOD\, MASTER OF THE CHORISTERS. The choir\, consisting of 19 boy trebles (ages 9 13) and 12 "lay clerks\," or professional male singers\, sings daily services in the cathedral\, which is the worldwide seat of the Anglican Communion. Their repertoire ranges from the medieval to the modern. The choir has toured France\, Italy\, the Netherlands\, Germany\, Malta\, Canada and the USA\, and produced numerous CD recordings\, television shows and radio broadcasts.\n\n \n\nIt is our pleasure to host the Canterbury Cathedral Choir as part of their 2018 International Tour. Join us Wednesday\, April 11\, 2018 at 7:30pm\n\nat St. Paul's Episcopal Church\, 401 East Fourth Street\, Greenville\, North Carolina for this special event.\n\n \n\nLIMITED TICKETS AVAILABLE:  ALL SEATS $25\n\nTo purchase tickets\, please visit www.opus126.com\n\nDesignated seating for Friends of the Fisk (all others first-come\, first-serve)\n\n \n\nThe Fisk on Fourth Concert Series is made possible through the East Carolina Musical Arts Education Foundation (ECMAEF)\, a non-profit\n\ncorporation\, created to enrich the cultural offerings in Eastern North Carolina and to encourage continued interest in and performance of \n\npipe organ and choral music.
X-ALT-DESC;FMTTYPE=text/html:<span style="font-family:georgia\,serif"><em><span style="font-size:14pt">The 2017-2018 Fisk on Fourth Concert Series concludes with&nbsp\;</span></em><strong><span style="font-size:14pt">The Canterbury Cathedral Choir of Men and Boys (UK)\,&nbsp\;</span></strong><span style="font-size:14px"><strong><span style="color:windowtext">DAVID FLOOD\, MASTER OF THE CHORISTERS.</span></strong>&nbsp\;</span><span style="font-size:14pt">The choir\, consisting of 19 boy trebles (ages 9&mdash\;13) and 12 &ldquo\;lay clerks\,&rdquo\; or professional male singers\, sings daily services in the cathedral\, which is the worldwide seat of the Anglican Communion. Their repertoire ranges from the medieval to the modern. The choir has toured France\, Italy\, the Netherlands\, Germany\, Malta\, Canada and the USA\, and produced numerous CD recordings\, television shows and radio broadcasts.</span></span><br />\n&nbsp\;<br />\n<span style="font-family:georgia\,serif"><span style="font-size:14pt">It is our pleasure to host the Canterbury Cathedral Choir as part of their&nbsp\;</span><span style="font-size:14pt">2018 International Tour.&nbsp\;</span><span style="font-size:18px"><em>Join us&nbsp\;<strong>Wednesday\, April 11\, 2018 at 7:30pm</strong></em></span></span><br />\n<em><span style="font-size:14pt"><span style="font-family:georgia\,serif">at St. Paul&rsquo\;s Episcopal Church\, 401 East Fourth Street\, Greenville\, North Carolina for this special event.</span></span></em><br />\n&nbsp\;<br />\n<span style="font-size:20px"><span style="font-family:georgia\,serif"><strong><u>LIMITED&nbsp\;</u></strong><strong><u>TICKETS AVAILABLE</u></strong><strong>:&nbsp\;&nbsp\;ALL SEATS $25</strong></span></span><br />\n<span style="font-size:14pt"><span style="font-family:georgia\,serif">To purchase tickets\, please visit&nbsp\;<a href="http://www.opus126.com/" style="color:rgb(17\, 85\, 204)\;" target="_blank">www.opus126.com</a></span></span><br />\n<span style="font-family:georgia\,serif"><em>Designated seating for Friends of the Fisk (all others first-come\, first-serve)</em></span><br />\n&nbsp\;\n<div>\n<div><span style="font-size:large"><span style="font-family:georgia\,serif">The Fisk on Fourth Concert Series is made possible through the East Carolina Musical Arts Education Foundation (ECMAEF)\, a non-profit<br />\ncorporation\, created to enrich the cultural offerings in Eastern North Carolina and to encourage continued interest in and performance of&nbsp\;</span></span></div>\n\n<div><span style="font-size:large"><span style="font-family:georgia\,serif">pipe organ and choral music.</span></span><br />\n&nbsp\;</div>\n</div>\n
LOCATION:St. Paul's Episcopal Church 401 East Fourth Street Greenville\, NC 27858
UID:e.840.8742
SEQUENCE:3
DTSTAMP:20260421T101757Z
URL:https://business.greenvillenc.org/events/details/fisk-on-fourth-concert-series-04-11-2018-8742
END:VEVENT

END:VCALENDAR
