BEGIN:VCALENDAR
VERSION:2.0
PRODID:-//ChamberMaster//Event Calendar 2.0//EN
METHOD:PUBLISH
X-PUBLISHED-TTL:P3D
REFRESH-INTERVAL:P3D
CALSCALE:GREGORIAN
BEGIN:VEVENT
DTSTART:20161016T170000Z
DTEND:20161016T200000Z
X-MICROSOFT-CDO-ALLDAYEVENT:FALSE
SUMMARY:Fishing Derby
DESCRIPTION:Sunday\, October 16th 2nd Annual Family Fishing Derby Location   ATFS   Conservancy 1:00 pm -- 4:00 pm Cost -- $5/Entrant Prizes will be awarded for the biggest fish caught (1st\, 2nd\, 3rd place) and for the most fish caught. For more information contact amanda@timeforscience.org\, or 252-290-7421.
X-ALT-DESC;FMTTYPE=text/html:<span style="color:rgb(75\, 79\, 86)\; font-family:helvetica\,arial\,sans-serif\; font-size:14px">Sunday\, October 16th 2nd Annual Family Fishing Derby Location &ndash\; ATFS &ndash\; Conservancy 1:00 pm -- 4:00 pm Cost -- $5/</span><span style="color:rgb(75\, 79\, 86)\; font-family:helvetica\,arial\,sans-serif\; font-size:14px">Entrant Prizes will be awarded for the biggest fish caught (1st\, 2nd\, 3rd place) and for the most fish caught. For more information contact amanda@timeforscience.org\, or 252-290-7421.</span>
LOCATION:
UID:e.840.6279
SEQUENCE:3
DTSTAMP:20260424T010144Z
URL:https://business.greenvillenc.org/events/details/fishing-derby-6279
END:VEVENT

END:VCALENDAR
