BEGIN:VCALENDAR
VERSION:2.0
PRODID:-//ChamberMaster//Event Calendar 2.0//EN
METHOD:PUBLISH
X-PUBLISHED-TTL:P3D
REFRESH-INTERVAL:P3D
CALSCALE:GREGORIAN
BEGIN:VEVENT
DTSTART;VALUE=DATE:20190425
DTEND;VALUE=DATE:20190426
TRANSP:TRANSPARENT
X-MICROSOFT-CDO-ALLDAYEVENT:TRUE
SUMMARY:Fire & Ice Pairing Dinner
DESCRIPTION:Join us for a perfectly paired 3 course dinner on April 25!  \n\n\n\n1st Course: Blackened Tuna and Ahi Tuna Sashimi \n\n2nd Course: 3 Piece Shrimp Skewer\, Filet Mignon \n\n3rd Course: Macadamia Nut Brownie and Ice Cream \n\n\n\n$55 per person\n\n\n\nRSVP Here Today: http://reservations.thuzi.com/bonefishgrill?utm_campaign=20190327-19-bfg-0217-ssthankyou-ppinvite-03-27-19&utm_medium=email-instore&utm_source=news&utm_content=&tp=i-h43-q74-fc-b7kcn-1o-4mkt-1c-b7k2y-29tjoo
X-ALT-DESC;FMTTYPE=text/html:Join us for a perfectly paired 3 course dinner on April 25! &nbsp\;<br />\n<br />\n1st Course: Blackened Tuna and Ahi Tuna Sashimi&nbsp\;<br />\n2nd Course: 3 Piece Shrimp Skewer\, Filet Mignon&nbsp\;<br />\n3rd Course: Macadamia Nut Brownie and Ice Cream&nbsp\;<br />\n<br />\n$55 per person<br />\n<br />\nRSVP Here Today:&nbsp\;http://reservations.thuzi.com/bonefishgrill?utm_campaign=20190327-19-bfg-0217-ssthankyou-ppinvite-03-27-19&amp\;utm_medium=email-instore&amp\;utm_source=news&amp\;utm_content=&amp\;tp=i-h43-q74-fc-b7kcn-1o-4mkt-1c-b7k2y-29tjoo
LOCATION:Bonefish Grill 3616 S Memorial Dr Greenville\, NC 27834
UID:e.840.9775
SEQUENCE:3
DTSTAMP:20260420T173008Z
URL:https://business.greenvillenc.org/events/details/fire-ice-9775
END:VEVENT

END:VCALENDAR
