BEGIN:VCALENDAR
VERSION:2.0
PRODID:-//ChamberMaster//Event Calendar 2.0//EN
METHOD:PUBLISH
X-PUBLISHED-TTL:P3D
REFRESH-INTERVAL:P3D
CALSCALE:GREGORIAN
BEGIN:VEVENT
DTSTART:20170606T040000Z
DTEND:20170606T040000Z
X-MICROSOFT-CDO-ALLDAYEVENT:FALSE
SUMMARY:Feed NC
DESCRIPTION:Join the NC Coastal SHRM along with NCSHRM State Council and\n\nChapters across the state as we\n\nFEED NC!!\n\n\n\nFEED NC going on now through 6/30/17\n\n\n   All canned food donations are weighed by the pound and divided by active NCCSHRM Chapter Members\n\n   The NC SHRM Chapter with the largest pound of food donated will determine the chapter winner and the selected food bank will receive $1\,000\n\n   Donated money for this cause will count as 7 pounds of food\, for every $1.00 donated
X-ALT-DESC;FMTTYPE=text/html:<div style="text-align:center"><span style="font-size:16px">Join the NC Coastal SHRM along with NCSHRM State Council and<br />\nChapters across the state as we<br />\n<span style="color:rgb(0\, 0\, 205)">FEED NC</span>!!</span></div>\n\n<div style="text-align:center"><br />\n<span style="font-size:18px"><strong><span style="color:rgb(255\, 140\, 0)">FEED NC going on now through 6/30/17</span></strong></span></div>\n<br />\n&gt\;&nbsp\; All canned food donations are weighed by the pound and divided by active NCCSHRM Chapter Members<br />\n&gt\;&nbsp\; The NC SHRM Chapter with the largest pound of food donated will determine the chapter winner and the selected food bank will receive $1\,000<br />\n&gt\;&nbsp\; Donated money for this cause will count as <span style="color:#008000"><span style="font-size:14px">7 pounds</span></span><span style="color:#008000"> </span>of food\, for every $1.00 donated
LOCATION:Canned food can be dropped off\, at either location now through June 30th: Executive Personnel Group - 1909 E. Firetower Road - (ask for Melanie Moore) Online Information - 685 W. Firetower Road - (ask for Shelley Johnson)
UID:e.840.8598
SEQUENCE:3
DTSTAMP:20260423T151141Z
URL:https://business.greenvillenc.org/events/details/feed-nc-06-06-2017-8598
END:VEVENT

END:VCALENDAR
