BEGIN:VCALENDAR
VERSION:2.0
PRODID:-//ChamberMaster//Event Calendar 2.0//EN
METHOD:PUBLISH
X-PUBLISHED-TTL:P3D
REFRESH-INTERVAL:P3D
CALSCALE:GREGORIAN
BEGIN:VEVENT
DTSTART:20190926T220000Z
DTEND:20190927T000000Z
X-MICROSOFT-CDO-ALLDAYEVENT:FALSE
SUMMARY:FALL Y'ALL Open House
DESCRIPTION:Have you been looking for an opportunity to tour Third Street and learn more about what happens here? Have you been wanting to introduce Third Street to your friends and family in a fun and interactive way? \n\n\n\nThen our new FALL Y'ALL Open House + Progressive Tasting event is for YOU! We are opening our doors for a community open house at Third Street... and a celebration of all things FALL! Join us for a casual and festive evening as we celebrate a new school year and a new season at Third Street. \n\n\n\nThere is no cost to attend\, but registration is requested so we can plan accordingly!\n\n\n\nRegister here!
X-ALT-DESC;FMTTYPE=text/html:<span style="color:rgb(29\, 33\, 41)\; font-family:helvetica\,arial\,sans-serif\; font-size:14px">Have you been looking for an opportunity to tour Third Street and learn more about what happens here? Have you been wanting to introduce Third Street to your friends and family in a fun and interactive way? </span><br />\n<br />\n<span style="color:rgb(29\, 33\, 41)\; font-family:helvetica\,arial\,sans-serif\; font-size:14px">Then our new FALL Y&#39\;ALL Open House + Progressive Tasting event is for YOU! We are opening our doors for a community open house at Third Street... and a celebration of all things FALL! Join us for a casual and festive evening as we celebrate a new school year and a new season at Third Street. </span><br />\n<br />\n<span style="color:rgb(29\, 33\, 41)\; font-family:helvetica\,arial\,sans-serif\; font-size:14px">There is no cost to attend\, but registration is requested so we can plan accordingly!<br />\n<br />\n<a href="https://www.facebook.com/events/3406381742721108/">Register here!</a></span>
LOCATION:Third Street Education Center 600 W 3rd St\, Greenville\, North Carolina 27834
UID:e.840.10784
SEQUENCE:3
DTSTAMP:20260420T103458Z
URL:https://business.greenvillenc.org/events/details/fall-y-all-open-house-10784
END:VEVENT

END:VCALENDAR
