BEGIN:VCALENDAR
VERSION:2.0
PRODID:-//ChamberMaster//Event Calendar 2.0//EN
METHOD:PUBLISH
X-PUBLISHED-TTL:P3D
REFRESH-INTERVAL:P3D
CALSCALE:GREGORIAN
BEGIN:VEVENT
DTSTART:20161008T170000Z
DTEND:20161008T200000Z
X-MICROSOFT-CDO-ALLDAYEVENT:FALSE
SUMMARY:Fall Harvest Family Fun Day
DESCRIPTION:Free Annual Fall Family Fun Day at the Greenville Museum of Art on 802 South Evans Street from 1:00-4:00 on Saturday\, October 8th. Fun Free family activities include pumpkin painting\, beekeeping demonstration\, nature crafts\, scavenger hunt\, blacksmithing\, instrument zoo\, delicious snacks\, and much more.
X-ALT-DESC;FMTTYPE=text/html:Free Annual Fall Family Fun Day at the Greenville Museum of Art on 802 South Evans Street from 1:00-4:00 on Saturday\, October 8th. Fun Free family activities include pumpkin painting\, beekeeping demonstration\, nature crafts\, scavenger hunt\, blacksmithing\, instrument zoo\, delicious snacks\, and much more.
LOCATION:Greenville Museum of Art/ 802 South Evans Street/ Greenville\, NC 27834/ 252.702.5442
UID:e.840.5874
SEQUENCE:3
DTSTAMP:20260424T010556Z
URL:https://business.greenvillenc.org/events/details/fall-harvest-family-fun-day-5874
END:VEVENT

END:VCALENDAR
