BEGIN:VCALENDAR
VERSION:2.0
PRODID:-//ChamberMaster//Event Calendar 2.0//EN
METHOD:PUBLISH
X-PUBLISHED-TTL:P3D
REFRESH-INTERVAL:P3D
CALSCALE:GREGORIAN
BEGIN:VEVENT
DTSTART;VALUE=DATE:19971017
DTEND;VALUE=DATE:19971019
TRANSP:TRANSPARENT
X-MICROSOFT-CDO-ALLDAYEVENT:TRUE
SUMMARY:Fall Expo 97
DESCRIPTION:
X-ALT-DESC;FMTTYPE=text/html:
LOCATION:Plaza Mall
UID:e.840.20
SEQUENCE:3
DTSTAMP:20260422T185428Z
URL:https://business.greenvillenc.org/events/details/fall-expo-97-10-17-1997-20
END:VEVENT

END:VCALENDAR
