BEGIN:VCALENDAR
VERSION:2.0
PRODID:-//ChamberMaster//Event Calendar 2.0//EN
METHOD:PUBLISH
X-PUBLISHED-TTL:P3D
REFRESH-INTERVAL:P3D
CALSCALE:GREGORIAN
BEGIN:VEVENT
DTSTART:20190808T220000Z
DTEND:20190809T000000Z
X-MICROSOFT-CDO-ALLDAYEVENT:FALSE
SUMMARY:Event Benefiting Humane Society of Eastern Carolina\, Pitt Friends\, & Saving Graces 4 Felines at Jenni K. Jewelry
DESCRIPTION:Be the first to shop the Annual Half Off Sale with 10% of every purchase being donated to one of the recognized organizations.  Please contact Jenni K. Jewelry if you would like to attend 252-355-6714.
X-ALT-DESC;FMTTYPE=text/html:Be the first to shop the Annual Half Off Sale with 10% of every purchase being donated to one of the recognized organizations.&nbsp\; Please contact Jenni K. Jewelry if you would like to attend <a href="tel:252-355-6714">252-355-6714</a>.
LOCATION:
UID:e.840.10357
SEQUENCE:3
DTSTAMP:20260420T122512Z
URL:https://business.greenvillenc.org/events/details/event-benefiting-humane-society-of-eastern-carolina-pitt-friends-saving-graces-4-felines-at-jenni-k-jewelry-10357
END:VEVENT

END:VCALENDAR
