BEGIN:VCALENDAR
VERSION:2.0
PRODID:-//ChamberMaster//Event Calendar 2.0//EN
METHOD:PUBLISH
X-PUBLISHED-TTL:P3D
REFRESH-INTERVAL:P3D
CALSCALE:GREGORIAN
BEGIN:VEVENT
DTSTART;VALUE=DATE:20140829
DTEND;VALUE=DATE:20140830
TRANSP:TRANSPARENT
X-MICROSOFT-CDO-ALLDAYEVENT:TRUE
SUMMARY:Event at Odd by Nature\, Inc. Moving Weekend
DESCRIPTION:Odd by Nature will be in the final phases of its move to the new building in Ayden at 536 Third Street  just in time for the Collard Festival.
X-ALT-DESC;FMTTYPE=text/html:Odd by Nature will be in the final phases of its move to the new building in Ayden at 536 Third Street &nbsp\;just in time for the Collard Festival.<br type="_moz" />\n&nbsp\;<br type="_moz" />\n&nbsp\;
LOCATION:moving from 105B Trade Street\, Greenville\, NC 28513
UID:e.840.554
SEQUENCE:3
DTSTAMP:20260425T205305Z
URL:https://business.greenvillenc.org/events/details/event-at-odd-by-nature-inc-moving-weekend-08-29-2014-554
END:VEVENT

END:VCALENDAR
