BEGIN:VCALENDAR
VERSION:2.0
PRODID:-//ChamberMaster//Event Calendar 2.0//EN
METHOD:PUBLISH
X-PUBLISHED-TTL:P3D
REFRESH-INTERVAL:P3D
CALSCALE:GREGORIAN
BEGIN:VEVENT
DTSTART:20140713T160000Z
DTEND:20140713T200000Z
X-MICROSOFT-CDO-ALLDAYEVENT:FALSE
SUMMARY:Event at Odd by Nature\, Inc.
DESCRIPTION:Odd by Nature\, Inc. will be hosting a fund-raising event for the local Greenville\, North Carolina Pets for Vets Chapter as a local garage sale with all proceeds going to the Greenville Chapter.\n\nOdd by Nature is accepting donations of items to be sold at that flea market at their educational facility/pet shop which is located at 105B Trade Street\, Greenville\, NC. For additional information or directions\, call the shop number\, 252-751-0263 or access the Face Book page at We are Odd by Nature.\n\nFor more information regarding the national organization of Pets for Vets\, please visit their website at:\n\nhttp://pets-for-vets.com/
X-ALT-DESC;FMTTYPE=text/html:Odd by Nature\, Inc. will be hosting a fund-raising event for the local Greenville\, North Carolina Pets for Vets Chapter as a local garage sale with all proceeds going to the Greenville Chapter.<br />\nOdd by Nature is accepting donations of items to be sold at that flea market at their educational facility/pet shop which is located at 105B Trade Street\, Greenville\, NC. For additional information or directions\, call the shop number\, 252-751-0263 or access the Face Book page at We are Odd by Nature.<br />\nFor more information regarding the national organization of Pets for Vets\, please visit their website at:<br />\nhttp://pets-for-vets.com/<br />\n<br />\n&nbsp\;
LOCATION:Odd by Nature\, Inc. 105B Trade Street\, Greenville\, NC 27834
UID:e.840.551
SEQUENCE:3
DTSTAMP:20260425T205509Z
URL:https://business.greenvillenc.org/events/details/event-at-odd-by-nature-inc-07-13-2014-551
END:VEVENT

END:VCALENDAR
