BEGIN:VCALENDAR
VERSION:2.0
PRODID:-//ChamberMaster//Event Calendar 2.0//EN
METHOD:PUBLISH
X-PUBLISHED-TTL:P3D
REFRESH-INTERVAL:P3D
CALSCALE:GREGORIAN
BEGIN:VEVENT
DTSTART;VALUE=DATE:20140517
DTEND;VALUE=DATE:20140518
TRANSP:TRANSPARENT
X-MICROSOFT-CDO-ALLDAYEVENT:TRUE
SUMMARY:Event at Odd by Nature\, Inc.
DESCRIPTION:The herpetological society\, ECHIS (East Carolina Herpetological and Invertebrate Society) meets on Saturday\, May 17th\, 2014 from 2 pm to 4 pm at Odd by Nature.\n\nVisitors and their pets are welcome.
X-ALT-DESC;FMTTYPE=text/html:The herpetological society\, ECHIS (East Carolina Herpetological and Invertebrate Society) meets on Saturday\, May 17th\, 2014 from 2 pm to 4 pm at Odd by Nature.<br />\nVisitors and their pets are welcome.
LOCATION:105B Trade Street\, Greenville\, NC 27834
UID:e.840.548
SEQUENCE:3
DTSTAMP:20260426T000411Z
URL:https://business.greenvillenc.org/events/details/event-at-odd-by-nature-inc-05-17-2014-548
END:VEVENT

END:VCALENDAR
