BEGIN:VCALENDAR
VERSION:2.0
PRODID:-//ChamberMaster//Event Calendar 2.0//EN
METHOD:PUBLISH
X-PUBLISHED-TTL:P3D
REFRESH-INTERVAL:P3D
CALSCALE:GREGORIAN
BEGIN:VEVENT
DTSTART:20140331T130000Z
DTEND:20140412T190000Z
X-MICROSOFT-CDO-ALLDAYEVENT:FALSE
SUMMARY:Event at Greenville Pool & Supply Co.
DESCRIPTION:Annual Water Care Product Sale.\n\n\n\nCome by and take advantage of the lowest prices\n\nof the season on your pool and spa chemicals.
X-ALT-DESC;FMTTYPE=text/html:<span style="font-size: 14px\;"><span style="font-family: comic sans ms\;"><span style="font-size: 16px\;"><strong>Annual Water Care Product Sale.</strong></span><br />\n<br />\nCome by and take advantage of the lowest prices<br />\nof the season on your pool and spa chemicals.</span></span>
LOCATION:Greenville Pool & Supply 3730 S. Charles Blvd. Greenville\, NC 27858
UID:e.840.537
SEQUENCE:3
DTSTAMP:20260426T015401Z
URL:https://business.greenvillenc.org/events/details/event-at-greenville-pool-supply-co-03-31-2014-537
END:VEVENT

END:VCALENDAR
