BEGIN:VCALENDAR
VERSION:2.0
PRODID:-//ChamberMaster//Event Calendar 2.0//EN
METHOD:PUBLISH
X-PUBLISHED-TTL:P3D
REFRESH-INTERVAL:P3D
CALSCALE:GREGORIAN
BEGIN:VEVENT
DTSTART:20140515T213000Z
DTEND:20140515T230000Z
X-MICROSOFT-CDO-ALLDAYEVENT:FALSE
SUMMARY:Event at Eastern Carolina Village & Farm Museum 1840-1940
DESCRIPTION:v\\:* {behavior:url(#default#VML)\;}\no\\:* {behavior:url(#default#VML)\;}\nw\\:* {behavior:url(#default#VML)\;}\n.shape {behavior:url(#default#VML)\;}\n\n\nThe Board of the newly named Eastern Carolina Village and Farm Museum\, formerly East Carolina Village of Yesteryear\, invites you to a reception at the Village on Thursday\, May 15\, 2014\, from 5:30-7:00.\n\nWe wish to acknowledge our participants in our Friends effort\, our financial patrons\, and our Village Classic tournament players.  We also would like to thank publicly any other persons or groups who have seen the value of the Village and support saving it and our eastern North Carolina history. The Board sees unlimited potential for the Village to grow into a viable community venue\, an educational tool\, and a strong tourist attraction.\n\nWe hope to see you on May 15\, 2014\, from 5:30-7:00 at the Village.  Please RESPOND by May 9\, YES or NO\, so our planners will have an idea of attendees.\n\nRESPOND: johon@suddenlink.net\, 252-756-5432\, yes or no...
X-ALT-DESC;FMTTYPE=text/html:<!--[if !mso]>\n<style>\nv\\:* {behavior:url(#default#VML)\;}\no\\:* {behavior:url(#default#VML)\;}\nw\\:* {behavior:url(#default#VML)\;}\n.shape {behavior:url(#default#VML)\;}\n</style>\n<![endif]-->\n<p class="FreeForm" style="tab-stops:28.0pt 56.0pt 84.0pt 112.0pt 140.0pt 168.0pt 196.0pt 224.0pt 3.5in 280.0pt 308.0pt 336.0pt"><span style="color:#141413">The Board of the newly named Eastern Carolina Village and Farm Museum\, formerly East Carolina Village of Yesteryear\, invites you to a reception at the Village on Thursday\, May 15\, 2014\, from 5:30-7:00.</span></p>\n\n<p class="FreeForm" style="tab-stops:28.0pt 56.0pt 84.0pt 112.0pt 140.0pt 168.0pt 196.0pt 224.0pt 3.5in 280.0pt 308.0pt 336.0pt"><span style="color:#141413">We wish to acknowledge our participants in our Friends effort\, our financial patrons\, and our Village Classic tournament players.<span style="mso-spacerun:yes">&nbsp\; </span>We also would like to thank publicly any other persons or groups who have seen the value of</span><span style="color:#141413"> the Village and support saving it and our eastern North Carolina history.</span><span style="color:#141413"> The Board sees unlimited potential for the Village to grow into a viable community venue\, an educational tool\, and a strong tourist attraction.</span></p>\n\n<p class="FreeForm" style="tab-stops:28.0pt 56.0pt 84.0pt 112.0pt 140.0pt 168.0pt 196.0pt 224.0pt 3.5in 280.0pt 308.0pt 336.0pt"><span style="color:#141413">We hope to see you on May 15\, 2014\, from 5:30-7:00 at the Village.<span style="mso-spacerun:yes">&nbsp\; </span>Please RESPOND by May 9\, YES or NO\, so our planners will have an idea of attendees.</span></p>\n\n<p class="FreeForm" style="tab-stops:28.0pt 56.0pt 84.0pt 112.0pt 140.0pt 168.0pt 196.0pt 224.0pt 3.5in 280.0pt 308.0pt 336.0pt"><span style="color:#141413">RESPOND: <a href="mailto:johon@suddenlink.net"><span style="color:#000099">johon@suddenlink.net</span></a>\, 252-756-5432\, yes or no...</span></p>\n\n<p class="FreeForm" style="tab-stops:28.0pt 56.0pt 84.0pt 112.0pt 140.0pt 168.0pt 196.0pt 224.0pt 3.5in 280.0pt 308.0pt 336.0pt"><span style="color:#141413">&nbsp\;</span></p>\n<br />\n&nbsp\;
LOCATION:
UID:e.840.547
SEQUENCE:3
DTSTAMP:20260426T000034Z
URL:https://business.greenvillenc.org/events/details/event-at-eastern-carolina-village-farm-museum-1840-1940-05-15-2014-547
END:VEVENT

END:VCALENDAR
