BEGIN:VCALENDAR
VERSION:2.0
PRODID:-//ChamberMaster//Event Calendar 2.0//EN
METHOD:PUBLISH
X-PUBLISHED-TTL:P3D
REFRESH-INTERVAL:P3D
CALSCALE:GREGORIAN
BEGIN:VEVENT
DTSTART:20190920T113000Z
DTEND:20190920T210000Z
X-MICROSOFT-CDO-ALLDAYEVENT:FALSE
SUMMARY:Ethical Issues in Caring for the Underserved: The Vulnerable\, Marginalized\, and Forgotten
DESCRIPTION:Objectives:\n\n	Describe the health care needs of underserved populations in North Carolina\n	Explain ethical issues that arise in caring for underserved populations in North Carolina\n	Formulate strategies to help resolve or mitigate the ethical issues that arise in caring for underserved populations in North Carolina\n\nSpeakers:\n\n\n	Gary J Gala\, MD\, FACS\, Psychiatrist\n	Arlene M Davis\, JD\, Assistant Professor\n	Hellen Ransom\, DHCE\, PhD\, Clinical Ethicist/Asst Prof\n	Geetha Samuel\, MD\, Physician\n	Michele Easter\n	Elizabeth Barton\n	Mary L Elesha\, FNP\, MSN\, RN\, Famliy Nurse Practitioner\n	Edie S Reed\, Director\n	Shanta L Johnson\, MSW LCSW\, Transplant Social Worker\n	Marilyn L Hanson\n	Nancy M King\, JD\, Professor\n	Deborah J Love\, JD\, MBA\, MA\n	Gerardo R Maradiaga
X-ALT-DESC;FMTTYPE=text/html:<br />\n<strong>Objectives:</strong>\n<ul>\n	<li>Describe the health care needs of underserved populations in North Carolina</li>\n	<li>Explain ethical issues that arise in caring for underserved populations in North Carolina</li>\n	<li>Formulate strategies to help resolve or mitigate the ethical issues that arise in caring for underserved populations in North Carolina</li>\n</ul>\n<strong>Speakers:</strong>\n\n<ul>\n	<li>Gary J Gala\, MD\, FACS\, Psychiatrist</li>\n	<li>Arlene M Davis\, JD\, Assistant Professor</li>\n	<li>Hellen Ransom\, DHCE\, PhD\, Clinical Ethicist/Asst Prof</li>\n	<li>Geetha Samuel\, MD\, Physician</li>\n	<li>Michele Easter</li>\n	<li>Elizabeth Barton</li>\n	<li>Mary L Elesha\, FNP\, MSN\, RN\, Famliy Nurse Practitioner</li>\n	<li>Edie S Reed\, Director</li>\n	<li>Shanta L Johnson\, MSW LCSW\, Transplant Social Worker</li>\n	<li>Marilyn L Hanson</li>\n	<li>Nancy M King\, JD\, Professor</li>\n	<li>Deborah J Love\, JD\, MBA\, MA</li>\n	<li>Gerardo R Maradiaga</li>\n</ul>\n
LOCATION:Eastern Area Health Education Center 2600 W. Arlington Blvd. Greenville\, NC 27834
UID:e.840.10349
SEQUENCE:3
DTSTAMP:20260420T120850Z
URL:https://business.greenvillenc.org/events/details/ethical-issues-in-caring-for-the-underserved-the-vulnerable-marginalized-and-forgotten-10349
END:VEVENT

END:VCALENDAR
