BEGIN:VCALENDAR
VERSION:2.0
PRODID:-//ChamberMaster//Event Calendar 2.0//EN
METHOD:PUBLISH
X-PUBLISHED-TTL:P3D
REFRESH-INTERVAL:P3D
CALSCALE:GREGORIAN
BEGIN:VEVENT
DTSTART:20170212T010000Z
DTEND:20170212T023000Z
X-MICROSOFT-CDO-ALLDAYEVENT:FALSE
SUMMARY:Estonian Philharmonic Chamber Choir
DESCRIPTION:ECU's S. Rudolph Alexander Performing Arts Series presents the Estonian Philharmonic Chamber Choir\, one of the best-known choirs in the world. Founded in 1981\, their repertoire extends from Gregorian chant and baroque to the music of the 21st century. They've performed with the Norwegian\, Australian\, Lithuanian\, Prague and Stuttgardt Chamber Orchestras\; and the London Symphony\, Mahler Chamber\, Berlin Rundfunk orchestras\, among others. With 14 Grammy nominations and two wins\, they're a sure bet. The program\, the Orthodox Tradition\, features excerpts of vespers and vigils from Tchaikovsky\, Rachmaninov and more. Individual tickets for this event are available on December 30. Sign up for an on-sale alert and special offers on our website.
X-ALT-DESC;FMTTYPE=text/html:<span style="font-family:gotham\; font-size:8.5px">ECU&#39\;s S. Rudolph Alexander Performing Arts Series presents the Estonian Philharmonic Chamber Choir\, one of the best-known choirs in the world. Founded in 1981\, their repertoire extends from Gregorian chant and baroque to the music of the 21st century. They&rsquo\;ve performed with the Norwegian\, Australian\, Lithuanian\, Prague and Stuttgardt Chamber Orchestras\; and the London Symphony\, Mahler Chamber\, Berlin Rundfunk orchestras\, among others. With 14 Grammy nominations and two wins\, they&rsquo\;re a sure bet. The program\, the Orthodox Tradition\, features excerpts of vespers and vigils from Tchaikovsky\, Rachmaninov and more.&nbsp\;</span><span style="font-family:gotham\; font-size:9px">Individual tickets for this event are available on December 30.&nbsp\;Sign up for an on-sale alert and special offers on our website.&nbsp\;</span>
LOCATION:ECU's Wright Auditorium
UID:e.840.2677
SEQUENCE:3
DTSTAMP:20260423T193709Z
URL:https://business.greenvillenc.org/events/details/estonian-philharmonic-chamber-choir-02-11-2017-2677
END:VEVENT

END:VCALENDAR
