BEGIN:VCALENDAR
VERSION:2.0
PRODID:-//ChamberMaster//Event Calendar 2.0//EN
METHOD:PUBLISH
X-PUBLISHED-TTL:P3D
REFRESH-INTERVAL:P3D
CALSCALE:GREGORIAN
BEGIN:VEVENT
DTSTART:20160419T233000Z
DTEND:20160420T001500Z
X-MICROSOFT-CDO-ALLDAYEVENT:FALSE
SUMMARY:Essential Oils for the Busy Person
DESCRIPTION:Come learn how essential oils can benefit your busy lifestyle. \n\n\n\n*  Maximize your concentration and thinking ability to get more done in less time\n\n*  Get compliments on your youthful and fresh looking skin at any age\n\n*  Eliminate odors for happy "green" home\n\n\n\n... Learn all that and much more \n\n\n\nTake his fun oil personality quiz\n\nhttps://naturessunshine.com/us/members/c1/quizzes
X-ALT-DESC;FMTTYPE=text/html:Come learn how essential oils can benefit your busy lifestyle.&nbsp\;<br />\n<br />\n* &nbsp\;Maximize your concentration and thinking ability to get more done in less time<br />\n* &nbsp\;Get compliments on your youthful and fresh looking skin at any age<br />\n* &nbsp\;Eliminate odors for happy &quot\;green&quot\; home<br />\n<br />\n... Learn all that and much more&nbsp\;<br />\n<br />\nTake his fun oil personality quiz<br />\nhttps://naturessunshine.com/us/members/c1/quizzes
LOCATION:Sheppard Memorial Library 530 Evans Street Greenville\, NC 27858
UID:e.840.2462
SEQUENCE:3
DTSTAMP:20260424T100815Z
URL:https://business.greenvillenc.org/events/details/essential-oils-for-the-busy-person-04-19-2016-2462
END:VEVENT

END:VCALENDAR
