BEGIN:VCALENDAR
VERSION:2.0
PRODID:-//ChamberMaster//Event Calendar 2.0//EN
METHOD:PUBLISH
X-PUBLISHED-TTL:P3D
REFRESH-INTERVAL:P3D
CALSCALE:GREGORIAN
BEGIN:VEVENT
DTSTART:20161002T170000Z
DTEND:20161002T190000Z
X-MICROSOFT-CDO-ALLDAYEVENT:FALSE
SUMMARY:ECU Volleyball vs. USF
DESCRIPTION:Fan Appreciation Day\n\n	Bring your ECU vs. UCF football ticket to receive a $2 ticket!\n	Team Autographs Post-match
X-ALT-DESC;FMTTYPE=text/html:Fan Appreciation Day\n<ul>\n	<li>Bring your ECU vs. UCF football ticket to receive a $2 ticket!</li>\n	<li>Team Autographs Post-match</li>\n</ul>\n
LOCATION:Minges Coliseum
UID:e.840.5822
SEQUENCE:3
DTSTAMP:20260424T010502Z
URL:https://business.greenvillenc.org/events/details/ecu-volleyball-vs-usf-10-02-2016-5822
END:VEVENT

END:VCALENDAR
