BEGIN:VCALENDAR
VERSION:2.0
PRODID:-//ChamberMaster//Event Calendar 2.0//EN
METHOD:PUBLISH
X-PUBLISHED-TTL:P3D
REFRESH-INTERVAL:P3D
CALSCALE:GREGORIAN
BEGIN:VEVENT
DTSTART:20161023T170000Z
DTEND:20161023T190000Z
X-MICROSOFT-CDO-ALLDAYEVENT:FALSE
SUMMARY:ECU Volleyball vs. UConn
DESCRIPTION:Dig Pink\n\n	Wear pink to receive $2 admission!
X-ALT-DESC;FMTTYPE=text/html:Dig Pink\n<ul>\n	<li>Wear pink to receive $2 admission!</li>\n</ul>\n
LOCATION:Minges Coliseum
UID:e.840.5826
SEQUENCE:3
DTSTAMP:20260424T022749Z
URL:https://business.greenvillenc.org/events/details/ecu-volleyball-vs-uconn-10-23-2016-5826
END:VEVENT

END:VCALENDAR
