BEGIN:VCALENDAR
VERSION:2.0
PRODID:-//ChamberMaster//Event Calendar 2.0//EN
METHOD:PUBLISH
X-PUBLISHED-TTL:P3D
REFRESH-INTERVAL:P3D
CALSCALE:GREGORIAN
BEGIN:VEVENT
DTSTART:20160930T213000Z
DTEND:20160930T233000Z
X-MICROSOFT-CDO-ALLDAYEVENT:FALSE
SUMMARY:ECU Volleyball vs. UCF
DESCRIPTION:2016 Home Opener | ECU Employee Appreciation Day (visit ECUPirates.com for more information) | Letterwinners
X-ALT-DESC;FMTTYPE=text/html:2016 Home Opener | ECU Employee Appreciation Day (visit ECUPirates.com for more information) | Letterwinners
LOCATION:Minges Coliseum
UID:e.840.5821
SEQUENCE:3
DTSTAMP:20260424T024722Z
URL:https://business.greenvillenc.org/events/details/ecu-volleyball-vs-ucf-09-30-2016-5821
END:VEVENT

END:VCALENDAR
