BEGIN:VCALENDAR
VERSION:2.0
PRODID:-//ChamberMaster//Event Calendar 2.0//EN
METHOD:PUBLISH
X-PUBLISHED-TTL:P3D
REFRESH-INTERVAL:P3D
CALSCALE:GREGORIAN
BEGIN:VEVENT
DTSTART:20161119T180000Z
DTEND:20161119T200000Z
X-MICROSOFT-CDO-ALLDAYEVENT:FALSE
SUMMARY:ECU Volleyball vs. Tulane
DESCRIPTION:Senior Day | Paint It Purple\n\n	Don't forget to wear your purple!
X-ALT-DESC;FMTTYPE=text/html:Senior Day | Paint It Purple\n<ul>\n	<li>Don&#39\;t forget to wear your purple!</li>\n</ul>\n
LOCATION:Minges Coliseum
UID:e.840.5830
SEQUENCE:3
DTSTAMP:20260424T000213Z
URL:https://business.greenvillenc.org/events/details/ecu-volleyball-vs-tulane-11-19-2016-5830
END:VEVENT

END:VCALENDAR
