BEGIN:VCALENDAR
VERSION:2.0
PRODID:-//ChamberMaster//Event Calendar 2.0//EN
METHOD:PUBLISH
X-PUBLISHED-TTL:P3D
REFRESH-INTERVAL:P3D
CALSCALE:GREGORIAN
BEGIN:VEVENT
DTSTART:20161021T230000Z
DTEND:20161022T010000Z
X-MICROSOFT-CDO-ALLDAYEVENT:FALSE
SUMMARY:ECU Volleyball vs. Temple
DESCRIPTION:
X-ALT-DESC;FMTTYPE=text/html:
LOCATION:Minges Coliseum
UID:e.840.5825
SEQUENCE:3
DTSTAMP:20260424T022750Z
URL:https://business.greenvillenc.org/events/details/ecu-volleyball-vs-temple-10-21-2016-5825
END:VEVENT

END:VCALENDAR
