BEGIN:VCALENDAR
VERSION:2.0
PRODID:-//ChamberMaster//Event Calendar 2.0//EN
METHOD:PUBLISH
X-PUBLISHED-TTL:P3D
REFRESH-INTERVAL:P3D
CALSCALE:GREGORIAN
BEGIN:VEVENT
DTSTART:20161106T180000Z
DTEND:20161106T200000Z
X-MICROSOFT-CDO-ALLDAYEVENT:FALSE
SUMMARY:ECU Volleyball vs. SMU
DESCRIPTION:Kid's Day\n\n	Visit ECUPirates.com for more information!
X-ALT-DESC;FMTTYPE=text/html:Kid&#39\;s Day\n<ul>\n	<li>Visit ECUPirates.com for more information!</li>\n</ul>\n
LOCATION:Minges Coliseum
UID:e.840.5828
SEQUENCE:3
DTSTAMP:20260424T000050Z
URL:https://business.greenvillenc.org/events/details/ecu-volleyball-vs-smu-11-06-2016-5828
END:VEVENT

END:VCALENDAR
