BEGIN:VCALENDAR
VERSION:2.0
PRODID:-//ChamberMaster//Event Calendar 2.0//EN
METHOD:PUBLISH
X-PUBLISHED-TTL:P3D
REFRESH-INTERVAL:P3D
CALSCALE:GREGORIAN
BEGIN:VEVENT
DTSTART:20161118T000000Z
DTEND:20161118T020000Z
X-MICROSOFT-CDO-ALLDAYEVENT:FALSE
SUMMARY:ECU Volleyball vs. Houston
DESCRIPTION:Throwback Thursday: Totally 90's
X-ALT-DESC;FMTTYPE=text/html:Throwback Thursday: Totally 90&#39\;s
LOCATION:Minges Coliseum
UID:e.840.5829
SEQUENCE:3
DTSTAMP:20260424T000043Z
URL:https://business.greenvillenc.org/events/details/ecu-volleyball-vs-houston-11-17-2016-5829
END:VEVENT

END:VCALENDAR
