BEGIN:VCALENDAR
VERSION:2.0
PRODID:-//ChamberMaster//Event Calendar 2.0//EN
METHOD:PUBLISH
X-PUBLISHED-TTL:P3D
REFRESH-INTERVAL:P3D
CALSCALE:GREGORIAN
BEGIN:VEVENT
DTSTART:20161005T230000Z
DTEND:20161006T010000Z
X-MICROSOFT-CDO-ALLDAYEVENT:FALSE
SUMMARY:ECU Volleyball vs. Cincinnati
DESCRIPTION:Paint It Gold\n\n	Don't forget to wear gold!
X-ALT-DESC;FMTTYPE=text/html:Paint It Gold\n<ul>\n	<li>Don&#39\;t forget to wear gold!</li>\n</ul>\n
LOCATION:Minges Coliseum
UID:e.840.5823
SEQUENCE:3
DTSTAMP:20260424T010508Z
URL:https://business.greenvillenc.org/events/details/ecu-volleyball-vs-cincinnati-10-05-2016-5823
END:VEVENT

END:VCALENDAR
