BEGIN:VCALENDAR
VERSION:2.0
PRODID:-//ChamberMaster//Event Calendar 2.0//EN
METHOD:PUBLISH
X-PUBLISHED-TTL:P3D
REFRESH-INTERVAL:P3D
CALSCALE:GREGORIAN
BEGIN:VEVENT
DTSTART:20160819T230000Z
DTEND:20160820T010000Z
X-MICROSOFT-CDO-ALLDAYEVENT:FALSE
SUMMARY:ECU Soccer vs. William & Mary
DESCRIPTION:2016 Home Opener\n	Post-Match Autographs
X-ALT-DESC;FMTTYPE=text/html:<ul>\n	<li>2016 Home Opener</li>\n	<li>Post-Match Autographs</li>\n</ul>\n
LOCATION:Johnson Soccer Stadium
UID:e.840.5810
SEQUENCE:3
DTSTAMP:20260424T035439Z
URL:https://business.greenvillenc.org/events/details/ecu-soccer-vs-william-mary-08-19-2016-5810
END:VEVENT

END:VCALENDAR
