BEGIN:VCALENDAR
VERSION:2.0
PRODID:-//ChamberMaster//Event Calendar 2.0//EN
METHOD:PUBLISH
X-PUBLISHED-TTL:P3D
REFRESH-INTERVAL:P3D
CALSCALE:GREGORIAN
BEGIN:VEVENT
DTSTART:20161012T230000Z
DTEND:20161013T010000Z
X-MICROSOFT-CDO-ALLDAYEVENT:FALSE
SUMMARY:ECU Soccer vs. SMU
DESCRIPTION:Kick Cancer\n\n	Wear pink and receive a $2 ticket!
X-ALT-DESC;FMTTYPE=text/html:Kick Cancer\n<ul>\n	<li>Wear pink and receive a $2 ticket!</li>\n</ul>\n
LOCATION:Johnson Soccer Stadium
UID:e.840.5817
SEQUENCE:3
DTSTAMP:20260424T010624Z
URL:https://business.greenvillenc.org/events/details/ecu-soccer-vs-smu-10-12-2016-5817
END:VEVENT

END:VCALENDAR
