BEGIN:VCALENDAR
VERSION:2.0
PRODID:-//ChamberMaster//Event Calendar 2.0//EN
METHOD:PUBLISH
X-PUBLISHED-TTL:P3D
REFRESH-INTERVAL:P3D
CALSCALE:GREGORIAN
BEGIN:VEVENT
DTSTART:20160908T230000Z
DTEND:20160909T010000Z
X-MICROSOFT-CDO-ALLDAYEVENT:FALSE
SUMMARY:ECU Soccer vs. NC State
DESCRIPTION:Paint It Purple!\n\n	Don't forget to wear purple!
X-ALT-DESC;FMTTYPE=text/html:Paint It Purple!\n<ul>\n	<li>Don&#39\;t forget to wear purple!</li>\n</ul>\n
LOCATION:Johnson Soccer Stadium
UID:e.840.5814
SEQUENCE:3
DTSTAMP:20260424T024047Z
URL:https://business.greenvillenc.org/events/details/ecu-soccer-vs-nc-state-09-08-2016-5814
END:VEVENT

END:VCALENDAR
