BEGIN:VCALENDAR
VERSION:2.0
PRODID:-//ChamberMaster//Event Calendar 2.0//EN
METHOD:PUBLISH
X-PUBLISHED-TTL:P3D
REFRESH-INTERVAL:P3D
CALSCALE:GREGORIAN
BEGIN:VEVENT
DTSTART:20160911T180000Z
DTEND:20160911T200000Z
X-MICROSOFT-CDO-ALLDAYEVENT:FALSE
SUMMARY:ECU Soccer vs. Charlotte
DESCRIPTION:Salute to Service\n\n	All military and civil service members can receive up to 4 tickets with proper ID\n	Post-Match Autographs
X-ALT-DESC;FMTTYPE=text/html:Salute to Service\n<ul>\n	<li>All military and civil service members can receive up to 4 tickets with proper ID</li>\n	<li>Post-Match Autographs</li>\n</ul>\n
LOCATION:Johnson Soccer Stadium
UID:e.840.5811
SEQUENCE:3
DTSTAMP:20260424T035536Z
URL:https://business.greenvillenc.org/events/details/ecu-soccer-vs-charlotte-09-11-2016-5811
END:VEVENT

END:VCALENDAR
