BEGIN:VCALENDAR
VERSION:2.0
PRODID:-//ChamberMaster//Event Calendar 2.0//EN
METHOD:PUBLISH
X-PUBLISHED-TTL:P3D
REFRESH-INTERVAL:P3D
CALSCALE:GREGORIAN
BEGIN:VEVENT
DTSTART;VALUE=DATE:20160903
DTEND;VALUE=DATE:20160904
TRANSP:TRANSPARENT
X-MICROSOFT-CDO-ALLDAYEVENT:TRUE
SUMMARY:ECU Football vs. Western Carolina
DESCRIPTION:Join the Pirates as they host in-state foe Western Carolina for the 2016 season opener!
X-ALT-DESC;FMTTYPE=text/html:Join the Pirates as they host in-state foe Western Carolina for the 2016 season opener!
LOCATION:Dowdy-Ficklen Stadium
UID:e.840.4894
SEQUENCE:3
DTSTAMP:20260424T025406Z
URL:https://business.greenvillenc.org/events/details/ecu-football-vs-western-carolina-09-03-2016-4894
END:VEVENT

END:VCALENDAR
