BEGIN:VCALENDAR
VERSION:2.0
PRODID:-//ChamberMaster//Event Calendar 2.0//EN
METHOD:PUBLISH
X-PUBLISHED-TTL:P3D
REFRESH-INTERVAL:P3D
CALSCALE:GREGORIAN
BEGIN:VEVENT
DTSTART;VALUE=DATE:20161029
DTEND;VALUE=DATE:20161030
TRANSP:TRANSPARENT
X-MICROSOFT-CDO-ALLDAYEVENT:TRUE
SUMMARY:ECU Football vs. UConn (Homecoming)
DESCRIPTION:It's Homecoming...Paint It Gold and celebrate with the Pirates as they take on UConn!
X-ALT-DESC;FMTTYPE=text/html:It&#39\;s Homecoming...Paint It Gold and celebrate with the Pirates as they take on UConn!
LOCATION:Dowdy-Ficklen Stadium
UID:e.840.4898
SEQUENCE:3
DTSTAMP:20260424T010920Z
URL:https://business.greenvillenc.org/events/details/ecu-football-vs-uconn-homecoming-10-29-2016-4898
END:VEVENT

END:VCALENDAR
